BEGIN:VCALENDAR
VERSION:2.0
PRODID:-//Capano Hospitality - ECPv6.14.2//NONSGML v1.0//EN
CALSCALE:GREGORIAN
METHOD:PUBLISH
X-WR-CALNAME:Capano Hospitality
X-ORIGINAL-URL:https://branmarwineandspirits.com
X-WR-CALDESC:Events for Capano Hospitality
REFRESH-INTERVAL;VALUE=DURATION:PT1H
X-Robots-Tag:noindex
X-PUBLISHED-TTL:PT1H
BEGIN:VTIMEZONE
TZID:UTC
BEGIN:STANDARD
TZOFFSETFROM:+0000
TZOFFSETTO:+0000
TZNAME:UTC
DTSTART:20250101T000000
END:STANDARD
END:VTIMEZONE
BEGIN:VEVENT
DTSTART;TZID=UTC:20250314T160000
DTEND;TZID=UTC:20250314T190000
DTSTAMP:20260421T142727
CREATED:20250301T150426Z
LAST-MODIFIED:20250301T150426Z
UID:886-1741968000-1741978800@branmarwineandspirits.com
SUMMARY:Tullamore Dew Tasting
DESCRIPTION:Tullamore Dew Irish Whiskey Tasting – Three spirits blend together to give a balance of flavour like no other. Grain whiskey gives sweet flavours. Malt whiskey gives fruit flavours. And pot still whiskey gives spice flavours.
URL:https://branmarwineandspirits.com/event/tullamore-dew-tasting/
LOCATION:Branmar Wine and Spirits\, 812 Marsh Road\, Wilmington\, DE\, 19810\, United States
ATTACH;FMTTYPE=image/jpeg:https://branmarwineandspirits.com/wp-content/uploads/2025/03/images.jpg
END:VEVENT
BEGIN:VEVENT
DTSTART;TZID=UTC:20250307T160000
DTEND;TZID=UTC:20250307T190000
DTSTAMP:20260421T142727
CREATED:20250301T080833Z
LAST-MODIFIED:20250301T145924Z
UID:881-1741363200-1741374000@branmarwineandspirits.com
SUMMARY:Scotty's Handcrafted Vodka Tasting
DESCRIPTION:Scotty’s Handcrafted Vodka Tasting – Scotty’s Vodka is crafted in Maryland using a unique filtration process that removes many of the congeners found in traditional vodka\, resulting in an exceptionally smooth taste. Made from corn\, it is naturally gluten-free\, offering a clean and crisp experience in every sip.
URL:https://branmarwineandspirits.com/event/scottys-vodka3-7-25/
LOCATION:Branmar Wine and Spirits\, 812 Marsh Road\, Wilmington\, DE\, 19810\, United States
ATTACH;FMTTYPE=image/jpeg:https://branmarwineandspirits.com/wp-content/uploads/2025/03/scotty-nash-vodka.jpg
END:VEVENT
BEGIN:VEVENT
DTSTART;TZID=UTC:20250228T160000
DTEND;TZID=UTC:20250228T190000
DTSTAMP:20260421T142727
CREATED:20250224T171332Z
LAST-MODIFIED:20250224T171332Z
UID:875-1740758400-1740769200@branmarwineandspirits.com
SUMMARY:Victory Brewery Beer Tasting
DESCRIPTION:Join us to enjoy free samples of new and favorite Victory Brewing beers.
URL:https://branmarwineandspirits.com/event/victory-brewery-beer-tasting/
LOCATION:DE
ATTACH;FMTTYPE=image/jpeg:https://branmarwineandspirits.com/wp-content/uploads/2025/02/VictoryBeerTasting.jpeg
END:VEVENT
BEGIN:VEVENT
DTSTART;TZID=UTC:20250227T150000
DTEND;TZID=UTC:20250227T170000
DTSTAMP:20260421T142727
CREATED:20250221T211449Z
LAST-MODIFIED:20250224T171352Z
UID:844-1740668400-1740675600@branmarwineandspirits.com
SUMMARY:Guinness Stout Tasting with Glass Engravings
DESCRIPTION:Join for complimentary tastings of Guinness beer\, and enjoy on-site FREE custom glassware engravings!
URL:https://branmarwineandspirits.com/event/hosted-dinner-with-chef-lizzy/
LOCATION:Branmar Wine and Spirits\, 812 Marsh Road\, Wilmington\, DE\, 19810\, United States
ATTACH;FMTTYPE=image/jpeg:https://branmarwineandspirits.com/wp-content/uploads/2025/02/GuinessEngraving.jpg
END:VEVENT
END:VCALENDAR