BEGIN:VCALENDAR
VERSION:2.0
PRODID:-//Capano Hospitality - ECPv6.14.2//NONSGML v1.0//EN
CALSCALE:GREGORIAN
METHOD:PUBLISH
X-ORIGINAL-URL:https://branmarwineandspirits.com
X-WR-CALDESC:Events for Capano Hospitality
REFRESH-INTERVAL;VALUE=DURATION:PT1H
X-Robots-Tag:noindex
X-PUBLISHED-TTL:PT1H
BEGIN:VTIMEZONE
TZID:UTC
BEGIN:STANDARD
TZOFFSETFROM:+0000
TZOFFSETTO:+0000
TZNAME:UTC
DTSTART:20250101T000000
END:STANDARD
END:VTIMEZONE
BEGIN:VEVENT
DTSTART;TZID=UTC:20250802T120000
DTEND;TZID=UTC:20250802T150000
DTSTAMP:20260421T204321
CREATED:20250801T180029Z
LAST-MODIFIED:20250801T180029Z
UID:1168-1754136000-1754146800@branmarwineandspirits.com
SUMMARY:Suncruiser\, Outlaw Tasting
DESCRIPTION:Swing by Branmar Wine & Spirits for a laid-back summer tasting. We’re featuring the easy-drinking Sun Cruiser cocktails and the bold flavor of Outlaw Beer. Chill\, crack one open\, and discover your new go-to.
URL:https://branmarwineandspirits.com/event/suncruiser-outlaw-tasting/
LOCATION:Branmar Wine and Spirits\, 812 Marsh Road\, Wilmington\, DE\, 19810\, United States
ATTACH;FMTTYPE=image/jpeg:https://branmarwineandspirits.com/wp-content/uploads/2025/08/Tasting82.jpg
END:VEVENT
BEGIN:VEVENT
DTSTART;TZID=UTC:20250808T160000
DTEND;TZID=UTC:20250808T190000
DTSTAMP:20260421T204321
CREATED:20250801T180139Z
LAST-MODIFIED:20250801T180139Z
UID:1170-1754668800-1754679600@branmarwineandspirits.com
SUMMARY:Voga Wines\, Bardstown Bourbon Tasting
DESCRIPTION:Join us at Branmar Wine & Spirits for a tasting that brings together elegance and edge. Sample the crisp\, modern style of Voga Wines alongside the rich\, complex character of Bardstown Bourbon.
URL:https://branmarwineandspirits.com/event/voga-wines-bardstown-bourbon-tasting/
LOCATION:Branmar Wine and Spirits\, 812 Marsh Road\, Wilmington\, DE\, 19810\, United States
ATTACH;FMTTYPE=image/jpeg:https://branmarwineandspirits.com/wp-content/uploads/2025/08/Tasting88.jpg
END:VEVENT
BEGIN:VEVENT
DTSTART;TZID=UTC:20250809T120000
DTEND;TZID=UTC:20250809T150000
DTSTAMP:20260421T204321
CREATED:20250801T180228Z
LAST-MODIFIED:20250801T180228Z
UID:1172-1754740800-1754751600@branmarwineandspirits.com
SUMMARY:Casamigos Tasting
DESCRIPTION:Stop by Branmar Wine & Spirits for a tasting of Casamigos Tequila. Smooth\, clean\, and crafted for sipping\, it’s the perfect chance to explore this fan favorite up close.
URL:https://branmarwineandspirits.com/event/casamigos-tasting/
LOCATION:Branmar Wine and Spirits\, 812 Marsh Road\, Wilmington\, DE\, 19810\, United States
ATTACH;FMTTYPE=image/jpeg:https://branmarwineandspirits.com/wp-content/uploads/2025/08/Tasting89.jpg
END:VEVENT
BEGIN:VEVENT
DTSTART;TZID=UTC:20250815T160000
DTEND;TZID=UTC:20250815T190000
DTSTAMP:20260421T204321
CREATED:20250801T180316Z
LAST-MODIFIED:20250801T180316Z
UID:1174-1755273600-1755284400@branmarwineandspirits.com
SUMMARY:Unshackled Wines\, Gratsi Wines\, Suncruiser Tasting
DESCRIPTION:Join us at Branmar Wine & Spirits for a tasting that covers bold\, fresh\, and easygoing. Sample Unshackled Wines\, Gratsi Wines\, and Suncruiser Cocktails in a lineup that’s full of flavor and ready for summer.
URL:https://branmarwineandspirits.com/event/unshackled-wines-gratsi-wines-suncruiser-tasting/
LOCATION:Branmar Wine and Spirits\, 812 Marsh Road\, Wilmington\, DE\, 19810\, United States
ATTACH;FMTTYPE=image/jpeg:https://branmarwineandspirits.com/wp-content/uploads/2025/08/Tasting815.jpg
END:VEVENT
BEGIN:VEVENT
DTSTART;TZID=UTC:20250816T120000
DTEND;TZID=UTC:20250816T150000
DTSTAMP:20260421T204321
CREATED:20250801T180416Z
LAST-MODIFIED:20250801T180416Z
UID:1176-1755345600-1755356400@branmarwineandspirits.com
SUMMARY:Long Drink\, Coppola Wines Tasting
DESCRIPTION:Stop by Branmar Wine & Spirits for a tasting that pairs iconic California wines with a Nordic classic. We’re pouring Coppola Wines and The Long Drink for a mix of bold reds and crisp\, citrusy refreshment.
URL:https://branmarwineandspirits.com/event/long-drink-coppola-wines-tasting/
LOCATION:Branmar Wine and Spirits\, 812 Marsh Road\, Wilmington\, DE\, 19810\, United States
ATTACH;FMTTYPE=image/jpeg:https://branmarwineandspirits.com/wp-content/uploads/2025/08/Tasting816.jpg
END:VEVENT
BEGIN:VEVENT
DTSTART;TZID=UTC:20250822T160000
DTEND;TZID=UTC:20250822T190000
DTSTAMP:20260421T204321
CREATED:20250801T180459Z
LAST-MODIFIED:20250801T180459Z
UID:1178-1755878400-1755889200@branmarwineandspirits.com
SUMMARY:Bulleit Bourbon Tasting
DESCRIPTION:Join us at Branmar Wine & Spirits for a tasting of Bulleit Bourbon. Known for its high-rye content and bold\, spicy character\, it’s a favorite for sipping straight or mixing into your favorite classic.
URL:https://branmarwineandspirits.com/event/bulleit-bourbon-tasting/
LOCATION:Branmar Wine and Spirits\, 812 Marsh Road\, Wilmington\, DE\, 19810\, United States
ATTACH;FMTTYPE=image/jpeg:https://branmarwineandspirits.com/wp-content/uploads/2025/08/Tasting822.jpg
END:VEVENT
BEGIN:VEVENT
DTSTART;TZID=UTC:20250823T120000
DTEND;TZID=UTC:20250823T150000
DTSTAMP:20260421T204321
CREATED:20250801T180553Z
LAST-MODIFIED:20250801T180602Z
UID:1180-1755950400-1755961200@branmarwineandspirits.com
SUMMARY:Gemma Di Luna Wines Tasting
DESCRIPTION:Stop in to Branmar Wine & Spirits for a tasting of Gemma di Luna Wines. From refreshing bubbles to delicate sweetness\, these Italian selections bring a touch of sparkle and charm to any occasion.
URL:https://branmarwineandspirits.com/event/gemma-di-luna-wines/
LOCATION:Branmar Wine and Spirits\, 812 Marsh Road\, Wilmington\, DE\, 19810\, United States
ATTACH;FMTTYPE=image/jpeg:https://branmarwineandspirits.com/wp-content/uploads/2025/08/Tasting823.jpg
END:VEVENT
BEGIN:VEVENT
DTSTART;TZID=UTC:20250905T160000
DTEND;TZID=UTC:20250905T190000
DTSTAMP:20260421T204321
CREATED:20250829T142705Z
LAST-MODIFIED:20250829T142705Z
UID:1210-1757088000-1757098800@branmarwineandspirits.com
SUMMARY:Gemma di Luna Wine\, New Trail Beer Tastings
DESCRIPTION:
URL:https://branmarwineandspirits.com/event/gemma-di-luna-wine-new-trail-beer-tastings/
LOCATION:Branmar Wine and Spirits\, 812 Marsh Road\, Wilmington\, DE\, 19810\, United States
ATTACH;FMTTYPE=image/png:https://branmarwineandspirits.com/wp-content/uploads/2025/08/Tasting95.png
END:VEVENT
BEGIN:VEVENT
DTSTART;TZID=UTC:20250906T120000
DTEND;TZID=UTC:20250906T150000
DTSTAMP:20260421T204321
CREATED:20250829T142921Z
LAST-MODIFIED:20250829T142921Z
UID:1219-1757160000-1757170800@branmarwineandspirits.com
SUMMARY:Zac Brown Wines\, Levitate Beverage Tastings
DESCRIPTION:
URL:https://branmarwineandspirits.com/event/zac-brown-wines-levitate-beverage-tastings/
LOCATION:Branmar Wine and Spirits\, 812 Marsh Road\, Wilmington\, DE\, 19810\, United States
ATTACH;FMTTYPE=image/png:https://branmarwineandspirits.com/wp-content/uploads/2025/08/Tasting96.png
END:VEVENT
BEGIN:VEVENT
DTSTART;TZID=UTC:20250912T160000
DTEND;TZID=UTC:20250912T190000
DTSTAMP:20260421T204321
CREATED:20250829T143008Z
LAST-MODIFIED:20250829T143008Z
UID:1221-1757692800-1757703600@branmarwineandspirits.com
SUMMARY:Zardetto Prosecco\, Jack Daniels Blackberry Tastings
DESCRIPTION:
URL:https://branmarwineandspirits.com/event/zardetto-prosecco-jack-daniels-blackberry-tastings/
LOCATION:Branmar Wine and Spirits\, 812 Marsh Road\, Wilmington\, DE\, 19810\, United States
ATTACH;FMTTYPE=image/png:https://branmarwineandspirits.com/wp-content/uploads/2025/08/Tasting912.png
END:VEVENT
BEGIN:VEVENT
DTSTART;TZID=UTC:20250919T160000
DTEND;TZID=UTC:20250919T190000
DTSTAMP:20260421T204321
CREATED:20250829T143108Z
LAST-MODIFIED:20250829T143108Z
UID:1223-1758297600-1758308400@branmarwineandspirits.com
SUMMARY:Voga Wines\, Woodford Bourbon Engraving
DESCRIPTION:
URL:https://branmarwineandspirits.com/event/voga-wines-woodford-bourbon-engraving/
LOCATION:Branmar Wine and Spirits\, 812 Marsh Road\, Wilmington\, DE\, 19810\, United States
ATTACH;FMTTYPE=image/png:https://branmarwineandspirits.com/wp-content/uploads/2025/08/Tasting919.png
END:VEVENT
BEGIN:VEVENT
DTSTART;TZID=UTC:20250920T160000
DTEND;TZID=UTC:20250920T190000
DTSTAMP:20260421T204321
CREATED:20250829T143225Z
LAST-MODIFIED:20250829T143225Z
UID:1225-1758384000-1758394800@branmarwineandspirits.com
SUMMARY:Coppola Wines
DESCRIPTION:
URL:https://branmarwineandspirits.com/event/coppola-wines/
LOCATION:Branmar Wine and Spirits\, 812 Marsh Road\, Wilmington\, DE\, 19810\, United States
ATTACH;FMTTYPE=image/png:https://branmarwineandspirits.com/wp-content/uploads/2025/08/Tasting920.png
END:VEVENT
BEGIN:VEVENT
DTSTART;TZID=UTC:20250926T160000
DTEND;TZID=UTC:20250926T190000
DTSTAMP:20260421T204321
CREATED:20250829T143328Z
LAST-MODIFIED:20250829T143328Z
UID:1227-1758902400-1758913200@branmarwineandspirits.com
SUMMARY:Casamigos Tequila\, Gratsi Wines\, Italian Wines
DESCRIPTION:
URL:https://branmarwineandspirits.com/event/casamigos-tequila-gratsi-wines-italian-wines/
LOCATION:Branmar Wine and Spirits\, 812 Marsh Road\, Wilmington\, DE\, 19810\, United States
ATTACH;FMTTYPE=image/png:https://branmarwineandspirits.com/wp-content/uploads/2025/08/Tasting926.png
END:VEVENT
BEGIN:VEVENT
DTSTART;TZID=UTC:20250927T120000
DTEND;TZID=UTC:20250927T150000
DTSTAMP:20260421T204321
CREATED:20250829T143400Z
LAST-MODIFIED:20250829T143400Z
UID:1229-1758974400-1758985200@branmarwineandspirits.com
SUMMARY:Zardetto Prosecco Tasting
DESCRIPTION:
URL:https://branmarwineandspirits.com/event/zardetto-prosecco-tasting/
LOCATION:Branmar Wine and Spirits\, 812 Marsh Road\, Wilmington\, DE\, 19810\, United States
ATTACH;FMTTYPE=image/png:https://branmarwineandspirits.com/wp-content/uploads/2025/08/Tasting927.png
END:VEVENT
BEGIN:VEVENT
DTSTART;TZID=UTC:20251009T180000
DTEND;TZID=UTC:20251009T203000
DTSTAMP:20260421T204321
CREATED:20250917T144754Z
LAST-MODIFIED:20250917T144754Z
UID:1234-1760032800-1760041800@branmarwineandspirits.com
SUMMARY:Autumn Sipping Series - Vineyard Harvest
DESCRIPTION:Hosted by Columbus Inn and curated by Branmar Wine & Spirits\, join us for an autumn evening celebrating the season’s flavors. Enjoy a handpicked selection of wines and cocktails paired with thoughtfully crafted hors d’oeuvres that highlight the bounty of fall. Whether you’re a seasoned enthusiast or simply curious\, Vineyard Harvest promises rich tastes\, warm company\, and a memorable night.
URL:https://branmarwineandspirits.com/event/autumn-sipping-series-vineyard-harvest/
LOCATION:Private: Columbus Inn\, 2216 Pennsylvania Ave\, Wilmington\, DE\, 19806\, United States
ATTACH;FMTTYPE=image/png:https://branmarwineandspirits.com/wp-content/uploads/2025/09/FLYERVineyardHarvestCover.png
END:VEVENT
BEGIN:VEVENT
DTSTART;TZID=UTC:20251010T160000
DTEND;TZID=UTC:20251010T190000
DTSTAMP:20260421T204321
CREATED:20251010T173219Z
LAST-MODIFIED:20251010T173246Z
UID:1239-1760112000-1760122800@branmarwineandspirits.com
SUMMARY:Casa Dragones Tequila Tasting
DESCRIPTION:
URL:https://branmarwineandspirits.com/event/casa-dragones-tequila-tasting/
LOCATION:Branmar Wine and Spirits\, 812 Marsh Road\, Wilmington\, DE\, 19810\, United States
ATTACH;FMTTYPE=image/png:https://branmarwineandspirits.com/wp-content/uploads/2025/10/Tasting1010.png
END:VEVENT
BEGIN:VEVENT
DTSTART;TZID=UTC:20251017T160000
DTEND;TZID=UTC:20251017T190000
DTSTAMP:20260421T204321
CREATED:20251010T174004Z
LAST-MODIFIED:20251010T174004Z
UID:1248-1760716800-1760727600@branmarwineandspirits.com
SUMMARY:Bulleit Bourbon Tasting
DESCRIPTION:
URL:https://branmarwineandspirits.com/event/bulleit-bourbon-tasting-2/
LOCATION:Branmar Wine and Spirits\, 812 Marsh Road\, Wilmington\, DE\, 19810\, United States
ATTACH;FMTTYPE=image/jpeg:https://branmarwineandspirits.com/wp-content/uploads/2025/08/Tasting822.jpg
END:VEVENT
BEGIN:VEVENT
DTSTART;TZID=UTC:20251025T120000
DTEND;TZID=UTC:20251025T150000
DTSTAMP:20260421T204321
CREATED:20251010T174625Z
LAST-MODIFIED:20251010T174625Z
UID:1250-1761393600-1761404400@branmarwineandspirits.com
SUMMARY:Noble Vines Wine Tasting
DESCRIPTION:
URL:https://branmarwineandspirits.com/event/noble-vines-wine-tasting/
LOCATION:Branmar Wine and Spirits\, 812 Marsh Road\, Wilmington\, DE\, 19810\, United States
ATTACH;FMTTYPE=image/png:https://branmarwineandspirits.com/wp-content/uploads/2025/10/Tasting1025.2.png
END:VEVENT
BEGIN:VEVENT
DTSTART;TZID=UTC:20251025T130000
DTEND;TZID=UTC:20251025T160000
DTSTAMP:20260421T204321
CREATED:20251010T173752Z
LAST-MODIFIED:20251010T173752Z
UID:1244-1761397200-1761408000@branmarwineandspirits.com
SUMMARY:Remhoogte South African Wines Tasting
DESCRIPTION:
URL:https://branmarwineandspirits.com/event/remhoogte-south-african-wines-tasting/
LOCATION:Branmar Wine and Spirits\, 812 Marsh Road\, Wilmington\, DE\, 19810\, United States
ATTACH;FMTTYPE=image/png:https://branmarwineandspirits.com/wp-content/uploads/2025/10/Tasting1025.png
END:VEVENT
BEGIN:VEVENT
DTSTART;TZID=UTC:20251025T140000
DTEND;TZID=UTC:20251025T170000
DTSTAMP:20260421T204321
CREATED:20251010T174719Z
LAST-MODIFIED:20251010T174719Z
UID:1255-1761400800-1761411600@branmarwineandspirits.com
SUMMARY:Broad Street Brewing Tastings
DESCRIPTION:
URL:https://branmarwineandspirits.com/event/broad-street-brewing-tastings/
LOCATION:Branmar Wine and Spirits\, 812 Marsh Road\, Wilmington\, DE\, 19810\, United States
ATTACH;FMTTYPE=image/png:https://branmarwineandspirits.com/wp-content/uploads/2025/10/Tasting1025.3.png
END:VEVENT
BEGIN:VEVENT
DTSTART;TZID=UTC:20251031T150000
DTEND;TZID=UTC:20251031T180000
DTSTAMP:20260421T204321
CREATED:20251010T174821Z
LAST-MODIFIED:20251010T174821Z
UID:1257-1761922800-1761933600@branmarwineandspirits.com
SUMMARY:Francis Ford Coppola Wine Tastings
DESCRIPTION:
URL:https://branmarwineandspirits.com/event/francis-ford-coppola-wine-tastings-3/
LOCATION:Branmar Wine and Spirits\, 812 Marsh Road\, Wilmington\, DE\, 19810\, United States
ATTACH;FMTTYPE=image/png:https://branmarwineandspirits.com/wp-content/uploads/2025/08/Tasting920.png
END:VEVENT
BEGIN:VEVENT
DTSTART;TZID=UTC:20251031T160000
DTEND;TZID=UTC:20251031T190000
DTSTAMP:20260421T204321
CREATED:20251010T173333Z
LAST-MODIFIED:20251010T173333Z
UID:1242-1761926400-1761937200@branmarwineandspirits.com
SUMMARY:Casa Dragones Tequila Tasting
DESCRIPTION:
URL:https://branmarwineandspirits.com/event/casa-dragones-tequila-tasting-2/
LOCATION:Branmar Wine and Spirits\, 812 Marsh Road\, Wilmington\, DE\, 19810\, United States
ATTACH;FMTTYPE=image/png:https://branmarwineandspirits.com/wp-content/uploads/2025/10/Tasting1010.png
END:VEVENT
BEGIN:VEVENT
DTSTART;TZID=UTC:20260213T160000
DTEND;TZID=UTC:20260213T190000
DTSTAMP:20260421T204321
CREATED:20260128T160201Z
LAST-MODIFIED:20260128T160201Z
UID:1262-1770998400-1771009200@branmarwineandspirits.com
SUMMARY:Scarpetta Pinot Grigio
DESCRIPTION:
URL:https://branmarwineandspirits.com/event/scarpetta-pinot-grigio/
LOCATION:Branmar Wine and Spirits\, 812 Marsh Road\, Wilmington\, DE\, 19810\, United States
ATTACH;FMTTYPE=image/png:https://branmarwineandspirits.com/wp-content/uploads/2026/01/Tasting2.13.png
END:VEVENT
BEGIN:VEVENT
DTSTART;TZID=UTC:20260214T130000
DTEND;TZID=UTC:20260214T160000
DTSTAMP:20260421T204321
CREATED:20260128T162546Z
LAST-MODIFIED:20260128T162546Z
UID:1265-1771074000-1771084800@branmarwineandspirits.com
SUMMARY:Maker's Mark with Valentine Rose\, Avaline Organic Wines
DESCRIPTION:
URL:https://branmarwineandspirits.com/event/makers-mark-with-valentine-rose-avaline-organic-wines/
LOCATION:Branmar Wine and Spirits\, 812 Marsh Road\, Wilmington\, DE\, 19810\, United States
ATTACH;FMTTYPE=image/png:https://branmarwineandspirits.com/wp-content/uploads/2026/01/Tasting2.14.png
END:VEVENT
BEGIN:VEVENT
DTSTART;TZID=UTC:20260227T160000
DTEND;TZID=UTC:20260227T190000
DTSTAMP:20260421T204321
CREATED:20260128T162628Z
LAST-MODIFIED:20260128T162628Z
UID:1268-1772208000-1772218800@branmarwineandspirits.com
SUMMARY:Scarpetto Pinot Grigio
DESCRIPTION:
URL:https://branmarwineandspirits.com/event/scarpetto-pinot-grigio/
LOCATION:Branmar Wine and Spirits\, 812 Marsh Road\, Wilmington\, DE\, 19810\, United States
ATTACH;FMTTYPE=image/png:https://branmarwineandspirits.com/wp-content/uploads/2026/01/Tasting2.13.png
END:VEVENT
BEGIN:VEVENT
DTSTART;TZID=UTC:20260306T160000
DTEND;TZID=UTC:20260306T190000
DTSTAMP:20260421T204321
CREATED:20260302T184441Z
LAST-MODIFIED:20260302T184441Z
UID:1271-1772812800-1772823600@branmarwineandspirits.com
SUMMARY:Scarpetto Pinot Grigio
DESCRIPTION:
URL:https://branmarwineandspirits.com/event/scarpetto-pinot-grigio-2/
LOCATION:Branmar Wine and Spirits\, 812 Marsh Road\, Wilmington\, DE\, 19810\, United States
ATTACH;FMTTYPE=image/png:https://branmarwineandspirits.com/wp-content/uploads/2026/01/Tasting2.13.png
END:VEVENT
BEGIN:VEVENT
DTSTART;TZID=UTC:20260313T160000
DTEND;TZID=UTC:20260313T190000
DTSTAMP:20260421T204321
CREATED:20260302T185116Z
LAST-MODIFIED:20260302T185116Z
UID:1273-1773417600-1773428400@branmarwineandspirits.com
SUMMARY:Courage and Conviction Tasting
DESCRIPTION:
URL:https://branmarwineandspirits.com/event/courage-and-conviction-tasting/
LOCATION:Branmar Wine and Spirits\, 812 Marsh Road\, Wilmington\, DE\, 19810\, United States
ATTACH;FMTTYPE=image/png:https://branmarwineandspirits.com/wp-content/uploads/2026/03/Tasting3.13.png
END:VEVENT
BEGIN:VEVENT
DTSTART;TZID=UTC:20260313T160000
DTEND;TZID=UTC:20260313T190000
DTSTAMP:20260421T204321
CREATED:20260302T190729Z
LAST-MODIFIED:20260302T190729Z
UID:1277-1773417600-1773428400@branmarwineandspirits.com
SUMMARY:Lucky One Tasting
DESCRIPTION:
URL:https://branmarwineandspirits.com/event/lucky-one-tasting/
LOCATION:Branmar Wine and Spirits\, 812 Marsh Road\, Wilmington\, DE\, 19810\, United States
ATTACH;FMTTYPE=image/png:https://branmarwineandspirits.com/wp-content/uploads/2026/03/Tasting3.13.2.png
END:VEVENT
BEGIN:VEVENT
DTSTART;TZID=UTC:20260314T130000
DTEND;TZID=UTC:20260314T160000
DTSTAMP:20260421T204321
CREATED:20260302T191109Z
LAST-MODIFIED:20260302T191109Z
UID:1283-1773493200-1773504000@branmarwineandspirits.com
SUMMARY:Tullamore D.E.W. Tasting
DESCRIPTION:
URL:https://branmarwineandspirits.com/event/tullamore-d-e-w-tasting/
LOCATION:Branmar Wine and Spirits\, 812 Marsh Road\, Wilmington\, DE\, 19810\, United States
ATTACH;FMTTYPE=image/png:https://branmarwineandspirits.com/wp-content/uploads/2026/03/Tasting3.14.png
END:VEVENT
BEGIN:VEVENT
DTSTART;TZID=UTC:20260320T160000
DTEND;TZID=UTC:20260320T190000
DTSTAMP:20260421T204321
CREATED:20260302T191230Z
LAST-MODIFIED:20260302T191230Z
UID:1285-1774022400-1774033200@branmarwineandspirits.com
SUMMARY:Scarpetta Pinot Grigio & Horse Soldier Bourbons
DESCRIPTION:
URL:https://branmarwineandspirits.com/event/scarpetta-pinot-grigio-horse-soldier-bourbons/
LOCATION:Branmar Wine and Spirits\, 812 Marsh Road\, Wilmington\, DE\, 19810\, United States
ATTACH;FMTTYPE=image/png:https://branmarwineandspirits.com/wp-content/uploads/2026/03/Tasting3.20.png
END:VEVENT
END:VCALENDAR