BEGIN:VCALENDAR
VERSION:2.0
PRODID:-//Capano Hospitality - ECPv6.14.2//NONSGML v1.0//EN
CALSCALE:GREGORIAN
METHOD:PUBLISH
X-ORIGINAL-URL:https://branmarwineandspirits.com
X-WR-CALDESC:Events for Capano Hospitality
REFRESH-INTERVAL;VALUE=DURATION:PT1H
X-Robots-Tag:noindex
X-PUBLISHED-TTL:PT1H
BEGIN:VTIMEZONE
TZID:UTC
BEGIN:STANDARD
TZOFFSETFROM:+0000
TZOFFSETTO:+0000
TZNAME:UTC
DTSTART:20250101T000000
END:STANDARD
END:VTIMEZONE
BEGIN:VEVENT
DTSTART;TZID=UTC:20250404T160000
DTEND;TZID=UTC:20250404T190000
DTSTAMP:20260421T111215
CREATED:20250401T143003Z
LAST-MODIFIED:20250401T143104Z
UID:945-1743782400-1743793200@branmarwineandspirits.com
SUMMARY:Italian Wines Tasting
DESCRIPTION:Stop by Branmar Wine & Spirits for a free tasting of select Italian Wines. Sip\, sample\, and discover your new favorite variety!
URL:https://branmarwineandspirits.com/event/italian-wines-tasting/
LOCATION:Branmar Wine and Spirits\, 812 Marsh Road\, Wilmington\, DE\, 19810\, United States
ATTACH;FMTTYPE=image/webp:https://branmarwineandspirits.com/wp-content/uploads/2025/04/AdobeStock_469990606.webp
END:VEVENT
BEGIN:VEVENT
DTSTART;TZID=UTC:20250405T130000
DTEND;TZID=UTC:20250405T160000
DTSTAMP:20260421T111215
CREATED:20250401T143643Z
LAST-MODIFIED:20250401T143643Z
UID:949-1743858000-1743868800@branmarwineandspirits.com
SUMMARY:Levitate Beverage Tasting
DESCRIPTION:Locally crafted in Wilmington\, stop in at Branmar for a tasting of Levitate\, the innovative hemp-derived cannabis beverage designed for relaxation and wellness. Sip\, savor\, and discover a new way to unwind—without the hangover
URL:https://branmarwineandspirits.com/event/levitate-beverage-tasting/
LOCATION:Branmar Wine and Spirits\, 812 Marsh Road\, Wilmington\, DE\, 19810\, United States
ATTACH;FMTTYPE=image/webp:https://branmarwineandspirits.com/wp-content/uploads/2025/04/4pck_clouds.webp
END:VEVENT
BEGIN:VEVENT
DTSTART;TZID=UTC:20250411T150000
DTEND;TZID=UTC:20250411T180000
DTSTAMP:20260421T111215
CREATED:20250401T143858Z
LAST-MODIFIED:20250401T154237Z
UID:952-1744383600-1744394400@branmarwineandspirits.com
SUMMARY:Troegs Brewery Tasting
DESCRIPTION:Join us at Branmar Wine & Spirits for a special Troegs Brewery tasting! Explore a lineup of expertly crafted beers\, from hop-forward IPAs to smooth lagers—perfect for any craft beer lover.
URL:https://branmarwineandspirits.com/event/troegs-brewery/
LOCATION:Branmar Wine and Spirits\, 812 Marsh Road\, Wilmington\, DE\, 19810\, United States
ATTACH;FMTTYPE=image/jpeg:https://branmarwineandspirits.com/wp-content/uploads/2025/04/troegs_-ew_labels.jpg
END:VEVENT
BEGIN:VEVENT
DTSTART;TZID=UTC:20250411T160000
DTEND;TZID=UTC:20250411T190000
DTSTAMP:20260421T111215
CREATED:20250401T144325Z
LAST-MODIFIED:20250401T144325Z
UID:955-1744387200-1744398000@branmarwineandspirits.com
SUMMARY:Francis Ford Coppola Wine Tastings
DESCRIPTION:Experience the elegance of Francis Ford Coppola Wines at Branmar Wine & Spirits. Join us for a tasting and savor a selection of expertly crafted wines\, perfect for any occasion.
URL:https://branmarwineandspirits.com/event/francis-ford-coppola-wine-tastings/
LOCATION:Branmar Wine and Spirits\, 812 Marsh Road\, Wilmington\, DE\, 19810\, United States
ATTACH;FMTTYPE=image/jpeg:https://branmarwineandspirits.com/wp-content/uploads/2025/04/coppola_web.jpg
END:VEVENT
BEGIN:VEVENT
DTSTART;TZID=UTC:20250412T120000
DTEND;TZID=UTC:20250412T150000
DTSTAMP:20260421T111215
CREATED:20250401T145633Z
LAST-MODIFIED:20250401T145633Z
UID:958-1744459200-1744470000@branmarwineandspirits.com
SUMMARY:Maschio Prosecco and Riunite Tasting
DESCRIPTION:Join us at Branmar Wine & Spirits for a tasting of Maschio Prosecco and Riunite! Enjoy the crisp bubbles of Prosecco and the smooth\, fruit-forward flavors of Riunite—perfect for any celebration or casual sip.
URL:https://branmarwineandspirits.com/event/maschio-prosecco-and-riunite-tasting/
LOCATION:Branmar Wine and Spirits\, 812 Marsh Road\, Wilmington\, DE\, 19810\, United States
ATTACH;FMTTYPE=image/png:https://branmarwineandspirits.com/wp-content/uploads/2025/04/MTczODk0NTkxNjY3YTYzNTdjYTUxMGI.png
END:VEVENT
BEGIN:VEVENT
DTSTART;TZID=UTC:20250418T150000
DTEND;TZID=UTC:20250418T190000
DTSTAMP:20260421T111215
CREATED:20250416T171309Z
LAST-MODIFIED:20250416T171309Z
UID:977-1744988400-1745002800@branmarwineandspirits.com
SUMMARY:Long Drink\, Sun Cruiser & Z Alexander Brown Wines Tastings
DESCRIPTION:Join us on Thursday\, April 18th at Branmar Wine & Spirits for a special tasting event featuring the refreshingly zesty Long Drink\, beach-ready Sun Cruiser cocktails\, and bold\, expressive wines from Z. Alexander Brown. Whether you’re craving crisp and citrusy or rich and refined\, we’ve got your perfect pour waiting. Swing by\, sip a little\, and discover your new favorite drink just in time for the weekend.\nZ Alexander Brown Wines 4p-7p\nLong Drink 4p-7p\nSun Cruiser 3p-6p
URL:https://branmarwineandspirits.com/event/long-drink-sun-cruiser-z-alexander-brown-wines-tastings/
LOCATION:Branmar Wine and Spirits\, 812 Marsh Road\, Wilmington\, DE\, 19810\, United States
ATTACH;FMTTYPE=image/png:https://branmarwineandspirits.com/wp-content/uploads/2025/04/Tasting418.png
END:VEVENT
BEGIN:VEVENT
DTSTART;TZID=UTC:20250425T160000
DTEND;TZID=UTC:20250425T190000
DTSTAMP:20260421T111215
CREATED:20250416T171827Z
LAST-MODIFIED:20250416T171827Z
UID:987-1745596800-1745607600@branmarwineandspirits.com
SUMMARY:Steel Blu\, Dillon's Gin Cocktails and Clawtails Tasting
DESCRIPTION:Get ready to raise your spirits with a tasting that’s all about crisp\, cool cocktails. Try Steel Blu Vodka\, a smooth American classic made in Delaware\, explore the craft refreshment of Dillon’s Gin Cocktails\, and dive into the bold flavors of Clawtails—hard seltzers with serious bite. Whether you’re team vodka\, gin\, or something in between\, this tasting has your next favorite drink on ice.
URL:https://branmarwineandspirits.com/event/steel-blu-dillons-gin-cocktails-and-clawtails-tasting/
LOCATION:Branmar Wine and Spirits\, 812 Marsh Road\, Wilmington\, DE\, 19810\, United States
ATTACH;FMTTYPE=image/png:https://branmarwineandspirits.com/wp-content/uploads/2025/04/Tasting425.png
END:VEVENT
BEGIN:VEVENT
DTSTART;TZID=UTC:20250426T120000
DTEND;TZID=UTC:20250426T150000
DTSTAMP:20260421T111215
CREATED:20250416T171948Z
LAST-MODIFIED:20250416T171948Z
UID:991-1745668800-1745679600@branmarwineandspirits.com
SUMMARY:Cassamingos Tastings
DESCRIPTION:Come sip the ultra-smooth flavor of Casamigos Tequila\, from bright Blanco to rich Reposado. Whether you’re new to agave or a seasoned sipper\, this is your chance to taste what happens when quality meets laid-back luxury. Bring your crew\, grab a glass\, and find out why Casamigos isn’t just a tequila—it’s a vibe.
URL:https://branmarwineandspirits.com/event/cassamingos-tastings/
LOCATION:Branmar Wine and Spirits\, 812 Marsh Road\, Wilmington\, DE\, 19810\, United States
ATTACH;FMTTYPE=image/png:https://branmarwineandspirits.com/wp-content/uploads/2025/04/Tasting426.png
END:VEVENT
END:VCALENDAR